BEGIN:VCALENDAR
VERSION:2.0
PRODID:-//Sabre//Sabre VObject 3.5.3//EN
CALSCALE:GREGORIAN
BEGIN:VTIMEZONE
TZID:Europe/London
BEGIN:STANDARD
TZNAME:GMT
DTSTART:19701025T020000
RRULE:FREQ=YEARLY;BYMONTH=10;BYDAY=-1SU
TZOFFSETFROM:+0100
TZOFFSETTO:+0000
END:STANDARD
BEGIN:DAYLIGHT
TZNAME:BST
DTSTART:19700329T010000
RRULE:FREQ=YEARLY;BYMONTH=3;BYDAY=-1SU
TZOFFSETFROM:+0000
TZOFFSETTO:+0100
END:DAYLIGHT
END:VTIMEZONE
BEGIN:VEVENT
UID:event_202256@cwchorus.org.uk
DTSTART;TZID=Europe/London:20260516T100000
DTEND;TZID=Europe/London:20260516T120000
SUMMARY:Merton SingFest
DESCRIPTION:The Merton SingFest started in 2017 and we have taken part in a
 ll of them. There are three free informal concerts through the day\, each 
 one featuring an approx. 10-minute set from about five Merton singing grou
 ps who then sing a &quot\;festival anthem&quot\; together at the end. This
  year\, Colliers Wood Chorus is opening the first concert. Home-made refre
 shments available.\n\nFor full event details\, visit: https://www.cwchorus
 .org.uk/dbpage.php?pg=view&dbase=events&id=202256
LOCATION:St Mark's Church\, Wimbledon
URL:https://www.cwchorus.org.uk/dbpage.php?pg=view&dbase=events&id=202256
END:VEVENT
END:VCALENDAR
